BEGIN:VCALENDAR
VERSION:2.0
PRODID:-//wp-events-plugin.com//7.2.3.1//EN
BEGIN:VEVENT
UID:8117@visitlebanonky.com
DTSTART;TZID=America/Kentucky/Louisville:20251110T000000
DTEND;TZID=America/Kentucky/Louisville:20251113T000000
DTSTAMP:20251105T204531Z
URL:https://visitlebanonky.com/events/holy-name-of-mary-online-silent-auct
 ion/
SUMMARY:Holy Name of Mary Online Silent Auction
DESCRIPTION:The Holy Name of Mary Silent Auction can be found on their Face
 book page HERE .The auction will go from November 10 through 8 p.m. on Nov
 ember 13. 
ATTACH;FMTTYPE=image/jpeg:https://visitlebanonky.com/wp-content/uploads/20
 25/10/hnm-chili-e1760542530286.jpg
CATEGORIES:Community
LOCATION:Holy Name of Mary Catholic Church parish hall\, 3295 New Calvary R
 oad\, LEBANON/ CALVARY\, KY/MARION\, 40033\, Marion County\, United States
X-APPLE-STRUCTURED-LOCATION;VALUE=URI;X-ADDRESS=3295 New Calvary Road\, LEB
 ANON/ CALVARY\, KY/MARION\, 40033\, Marion County\, United States;X-APPLE-
 RADIUS=100;X-TITLE=Holy Name of Mary Catholic Church parish hall:geo:0,0
END:VEVENT
BEGIN:VTIMEZONE
TZID:America/Kentucky/Louisville
X-LIC-LOCATION:America/Kentucky/Louisville
BEGIN:STANDARD
DTSTART:20251102T010000
TZOFFSETFROM:-0400
TZOFFSETTO:-0500
TZNAME:EST
END:STANDARD
END:VTIMEZONE
END:VCALENDAR