BEGIN:VCALENDAR
VERSION:2.0
PRODID:-//wp-events-plugin.com//7.2.3.1//EN
BEGIN:VEVENT
UID:7829@visitlebanonky.com
DTSTART;TZID=America/Kentucky/Louisville:20250802T160000
DTEND;TZID=America/Kentucky/Louisville:20250802T230000
DTSTAMP:20250730T165640Z
URL:https://visitlebanonky.com/events/holy-rosary-church-homecoming-picnic
 /
SUMMARY:Holy Rosary Church Homecoming Picnic
DESCRIPTION:
ATTACH;FMTTYPE=image/jpeg:https://visitlebanonky.com/wp-content/uploads/20
 25/07/holy-rosary-picnic.jpg
CATEGORIES:Official
LOCATION:Holy Rosary Church\, 378 Rosary Heights\, Springfield\, KY\, 40069
 \, Washington County\, United States
X-APPLE-STRUCTURED-LOCATION;VALUE=URI;X-ADDRESS=378 Rosary Heights\, Spring
 field\, KY\, 40069\, Washington County\, United States;X-APPLE-RADIUS=100;
 X-TITLE=Holy Rosary Church:geo:0,0
END:VEVENT
BEGIN:VTIMEZONE
TZID:America/Kentucky/Louisville
X-LIC-LOCATION:America/Kentucky/Louisville
BEGIN:DAYLIGHT
DTSTART:20250309T030000
TZOFFSETFROM:-0500
TZOFFSETTO:-0400
TZNAME:EDT
END:DAYLIGHT
END:VTIMEZONE
END:VCALENDAR