BEGIN:VCALENDAR
VERSION:2.0
PRODID:-//wp-events-plugin.com//7.2.3.1//EN
BEGIN:VEVENT
UID:8881@visitlebanonky.com
DTSTART;TZID=America/Kentucky/Louisville:20260315T150000
DTEND;TZID=America/Kentucky/Louisville:20260315T170000
DTSTAMP:20260219T143728Z
URL:https://visitlebanonky.com/events/im-not-done-yet-the-best-of-gary-vid
 ito/
SUMMARY:I'm Not Done Yet - The Best of Gary Vidito
DESCRIPTION:Come to our next great program\, Gary Vidito's new show\, "I'm 
 Not Done Yet!"  March 13 & 15\, 2026.  Tickets available on line HERE or b
 y calling 859-336-9416.  
ATTACH;FMTTYPE=image/jpeg:https://visitlebanonky.com/wp-content/uploads/20
 26/02/im-not-done-yet.jpg
CATEGORIES:Community
LOCATION:St Catharine Hall\, 2645 Bardstown Rd\, Springfield\, Kentucky\, 4
 0069\, Washington County\, United States
GEO:37.691007;-85.233052
X-APPLE-STRUCTURED-LOCATION;VALUE=URI;X-ADDRESS=2645 Bardstown Rd\, Springf
 ield\, Kentucky\, 40069\, Washington County\, United States;X-APPLE-RADIUS
 =100;X-TITLE=St Catharine Hall:geo:37.691007,-85.233052
END:VEVENT
BEGIN:VTIMEZONE
TZID:America/Kentucky/Louisville
X-LIC-LOCATION:America/Kentucky/Louisville
BEGIN:DAYLIGHT
DTSTART:20260308T030000
TZOFFSETFROM:-0500
TZOFFSETTO:-0400
TZNAME:EDT
END:DAYLIGHT
END:VTIMEZONE
END:VCALENDAR