BEGIN:VCALENDAR
VERSION:2.0
PRODID:-//wp-events-plugin.com//7.2.3.1//EN
BEGIN:VEVENT
UID:7828@visitlebanonky.com
DTSTART;TZID=America/Kentucky/Louisville:20250801T130000
DTEND;TZID=America/Kentucky/Louisville:20250801T200000
DTSTAMP:20250730T165242Z
URL:https://visitlebanonky.com/events/inflatables-day-at-the-graham-memori
 al-park-soccer-fields/
SUMMARY:Inflatables Day at the Graham Memorial Park Soccer Fields
DESCRIPTION:🎉 Inflatable Day Rescheduled! 🎉\nWe’re excited to annou
 nce that Inflatable Day has been rescheduled to Friday\, August 1st from 1
  PM to 8 PM at Graham Memorial Park!\n🌊 Wet & dry inflatables\n👨‍
 👩‍👧‍👦 A fun community event for all ages!\nLet’s make this 
 a great day and show our support so we can bring even more fun events like
  this to our community! 💙💦
ATTACH;FMTTYPE=image/jpeg:https://visitlebanonky.com/wp-content/uploads/20
 25/07/inflatables-at-park.jpg
CATEGORIES:Official
LOCATION:Graham Memorial Park Soccer Fields\, 511 Fairgrounds Road\, Lebano
 n\, Kentucky\, 40033\, Marion County\, United States
GEO:37.564587;-85.238836
X-APPLE-STRUCTURED-LOCATION;VALUE=URI;X-ADDRESS=511 Fairgrounds Road\, Leba
 non\, Kentucky\, 40033\, Marion County\, United States;X-APPLE-RADIUS=100;
 X-TITLE=Graham Memorial Park Soccer Fields:geo:37.564587,-85.238836
END:VEVENT
BEGIN:VTIMEZONE
TZID:America/Kentucky/Louisville
X-LIC-LOCATION:America/Kentucky/Louisville
BEGIN:DAYLIGHT
DTSTART:20250309T030000
TZOFFSETFROM:-0500
TZOFFSETTO:-0400
TZNAME:EDT
END:DAYLIGHT
END:VTIMEZONE
END:VCALENDAR