BEGIN:VCALENDAR
VERSION:2.0
PRODID:-//wp-events-plugin.com//7.2.3.1//EN
BEGIN:VEVENT
UID:5978@visitlebanonky.com
DTSTART;TZID=America/Kentucky/Louisville:20240811T150000
DTEND;TZID=America/Kentucky/Louisville:20240811T160000
DTSTAMP:20240809T184022Z
URL:https://visitlebanonky.com/events/initial-sermon-of-deacon-desmond-spa
 lding/
SUMMARY:Initial Sermon of Deacon Desmond Spalding
DESCRIPTION:Join us on Sunday August 11\, 2024 at 3 p.m. for the Initial Se
 rmon of Deacon Desmond Spalding. He has dedicated his life to serving the 
 Lord and will be licensed as an Associate Minister of First Baptist Church
 .
ATTACH;FMTTYPE=image/jpeg:https://visitlebanonky.com/wp-content/uploads/20
 24/08/desmond.jpg
CATEGORIES:Community
LOCATION:First Baptist Church\, 231 North Depot Street\, Lebanon\, Kentucky
 \, 40033\, Marion County\, United States
GEO:37.570111;-85.257862
X-APPLE-STRUCTURED-LOCATION;VALUE=URI;X-ADDRESS=231 North Depot Street\, Le
 banon\, Kentucky\, 40033\, Marion County\, United States;X-APPLE-RADIUS=10
 0;X-TITLE=First Baptist Church:geo:37.570111,-85.257862
END:VEVENT
BEGIN:VTIMEZONE
TZID:America/Kentucky/Louisville
X-LIC-LOCATION:America/Kentucky/Louisville
BEGIN:DAYLIGHT
DTSTART:20240310T030000
TZOFFSETFROM:-0500
TZOFFSETTO:-0400
TZNAME:EDT
END:DAYLIGHT
END:VTIMEZONE
END:VCALENDAR