BEGIN:VCALENDAR
VERSION:2.0
PRODID:-//wp-events-plugin.com//7.2.3.1//EN
BEGIN:VEVENT
UID:7578@visitlebanonky.com
DTSTART;TZID=America/Kentucky/Louisville:20250616T160000
DTEND;TZID=America/Kentucky/Louisville:20250617T200000
DTSTAMP:20250508T001136Z
URL:https://visitlebanonky.com/events/into-the-woods-auditions/
SUMMARY:Into the Woods Auditions
DESCRIPTION:From the event page on Facebook at https://www.facebook.com/sha
 re/1AHLL217sw/\n🌲INTO THE WOODS – AUDITIONS ANNOUNCED! 🌲\n🎶 It
 ’s time to wish\, prepare\, and take a journey Into the Woods with us!\n
 🗓 Auditions: June 16 & 17\n📍 237 North Spalding Ave. Lebanon KY 4003
 3\n⏰ Times:\n🐐 Teens (Ages 11-18): 4:00 PM – 6:00 PM\n🌽 Adults: 
 (16-ADULT) 6:00 PM – 8:00 PM\nWhether you're a charming prince\, a sarca
 stic wolf\, or just need one more magic bean—this is your chance to brin
 g your favorite fairy tale characters to life (and maybe find out what rea
 lly happens after happily ever after).\n✨ ABOUT THE SHOW:\nA baker and h
 is wife. A witch. Cinderella\, Little Red\, Jack\, Rapunzel… and a whole
  lot of consequences. Into the Woods takes your favorite childhood stories
  and weaves them into one spellbinding musical adventure\, full of Sondhei
 m’s witty lyrics\, rich characters\, and twists that will keep you on yo
 ur toes (even if you lose a slipper 🥿).\n🔗 For full audition info\, 
 character descriptions\, and more: https://docs.google.com/.../1avOJLSiTUZ
 guamjfhVph.../edit...\nSo grab your cape\, find your cow\, and get ready t
 o go Into the Woods—but be careful what you wish for...
ATTACH;FMTTYPE=image/jpeg:https://visitlebanonky.com/wp-content/uploads/20
 25/05/into-the-woods.jpg
CATEGORIES:Official
LOCATION:Kentucky Classic ARTS at Centre Square\, 237 North Spalding Avenue
 \, Lebanon\, KY\, 40033\, United States
X-APPLE-STRUCTURED-LOCATION;VALUE=URI;X-ADDRESS=237 North Spalding Avenue\,
  Lebanon\, KY\, 40033\, United States;X-APPLE-RADIUS=100;X-TITLE=Kentucky 
 Classic ARTS at Centre Square:geo:0,0
END:VEVENT
BEGIN:VTIMEZONE
TZID:America/Kentucky/Louisville
X-LIC-LOCATION:America/Kentucky/Louisville
BEGIN:DAYLIGHT
DTSTART:20250309T030000
TZOFFSETFROM:-0500
TZOFFSETTO:-0400
TZNAME:EDT
END:DAYLIGHT
END:VTIMEZONE
END:VCALENDAR