BEGIN:VCALENDAR
VERSION:2.0
PRODID:-//wp-events-plugin.com//7.2.3.1//EN
BEGIN:VEVENT
UID:9176@visitlebanonky.com
DTSTART;TZID=America/Kentucky/Louisville:20261003T210000
DTEND;TZID=America/Kentucky/Louisville:20261003T223000
DTSTAMP:20260410T191708Z
URL:https://visitlebanonky.com/events/jd-shelburne-at-sorghum-festival/
SUMMARY:JD Shelburne at Sorghum Festival
DESCRIPTION:Kentucky native JD Shelburne is set to return to the stage as t
 he headlining act for the 50th Annual Springfield Sorghum Festival on Satu
 rday\, October 3rd.\n\nThis will mark Shelburne’s third time headlining 
 the long-running festival\, a milestone event celebrating its 50th year in
  Springfield. Organizers say Shelburne and his Nashville-based band are pl
 anning a major performance to commemorate the occasion.\n\nShelburne\, a K
 entucky-born country artist\, continues to build a strong following and ha
 s earned a growing list of accolades throughout his career\, including mak
 ing his debut at the Grand Ole Opry in 2025.\n\nFestival officials say the
  anniversary event is expected to draw large crowds\, with Shelburne’s r
 eturn serving as a highlight of the celebration.
ATTACH;FMTTYPE=image/jpeg:https://visitlebanonky.com/wp-content/uploads/20
 26/04/jd-shelborne.jpg
CATEGORIES:Official
LOCATION:Downtown Springfield\, Main Street\, Springfield\, Kentucky\, 4006
 9\, Washington County\, United States
GEO:37.685224;-85.221964
X-APPLE-STRUCTURED-LOCATION;VALUE=URI;X-ADDRESS=Main Street\, Springfield\,
  Kentucky\, 40069\, Washington County\, United States;X-APPLE-RADIUS=100;X
 -TITLE=Downtown Springfield:geo:37.685224,-85.221964
END:VEVENT
BEGIN:VTIMEZONE
TZID:America/Kentucky/Louisville
X-LIC-LOCATION:America/Kentucky/Louisville
BEGIN:DAYLIGHT
DTSTART:20260308T030000
TZOFFSETFROM:-0500
TZOFFSETTO:-0400
TZNAME:EDT
END:DAYLIGHT
END:VTIMEZONE
END:VCALENDAR