BEGIN:VCALENDAR
VERSION:2.0
PRODID:-//wp-events-plugin.com//7.2.3.1//EN
BEGIN:VEVENT
UID:8448@visitlebanonky.com
DTSTART;TZID=America/Kentucky/Louisville:20251231T170000
DTEND;TZID=America/Kentucky/Louisville:20251231T234500
DTSTAMP:20251209T025519Z
URL:https://visitlebanonky.com/events/jim-bob-moore-american-legion-post-4
 9-new-years-eve-party/
SUMMARY:Jim Bob Moore American Legion Post 49 New Year's Eve Party
DESCRIPTION:Follow on Facebook HERE
ATTACH;FMTTYPE=image/jpeg:https://visitlebanonky.com/wp-content/uploads/20
 25/12/jim-bob-moore.jpg
CATEGORIES:Community
LOCATION:Jim Bob Moore American Legion Post 49\, 549 W Main Street\, Lebano
 n\, Kentucky\, 40033\, Marion County\, United States
GEO:37.564607;-85.264132
X-APPLE-STRUCTURED-LOCATION;VALUE=URI;X-ADDRESS=549 W Main Street\, Lebanon
 \, Kentucky\, 40033\, Marion County\, United States;X-APPLE-RADIUS=100;X-T
 ITLE=Jim Bob Moore American Legion Post 49:geo:37.564607,-85.264132
END:VEVENT
BEGIN:VTIMEZONE
TZID:America/Kentucky/Louisville
X-LIC-LOCATION:America/Kentucky/Louisville
BEGIN:STANDARD
DTSTART:20251102T010000
TZOFFSETFROM:-0400
TZOFFSETTO:-0500
TZNAME:EST
END:STANDARD
END:VTIMEZONE
END:VCALENDAR