BEGIN:VCALENDAR
VERSION:2.0
PRODID:-//wp-events-plugin.com//7.2.3.1//EN
BEGIN:VEVENT
UID:9121@visitlebanonky.com
DTSTART;TZID=America/Kentucky/Louisville:20260423T181500
DTEND;TZID=America/Kentucky/Louisville:20260423T211500
DTSTAMP:20260327T171259Z
URL:https://visitlebanonky.com/events/jordan-st-cyr-in-concert-with-belle-
 isle-crown-of-life/
SUMMARY:Jordan St. Cyr in Concert With Belle Isle & Crown of Life
DESCRIPTION:JORDAN ST. CYR LIVE IN CONCERT with special guests Belle Isle &
  Crown of Life!!\nWhen: April 23rd at 7pm! (DOORS OPEN at 6:20pm) When no 
 end time is listed an approximate time is used.\nWhere: Right here at OACC
 !\n2205 Danville HWY\, Lebanon KY!\nTICKETS: stop by the church to buy tic
 kets. Find the church on Facebook HERE\n(Pre-sale from Church) $18\n(Onlin
 e) $20+fees HERE\n*Ages 4 and under are FREE!\n\nCheck out his songs:\n- h
 ttps://youtu.be/CAxSyMnGiDs?si=vYO0euDNcScCOGwS\n-\nhttps://youtu.be/Plvh6
 vrCo0g?si=YCeVeYMGZ6i09WWb\n-\nhttps://youtu.be/io8GX4zMemg?si=jbxHPPW3dXx
 cXSBm\n-\nhttps://youtu.be/XOrSj9w01xw?si=od30ahjSi51Oum_P  
ATTACH;FMTTYPE=image/jpeg:https://visitlebanonky.com/wp-content/uploads/20
 26/03/JORDAN-ST-CYR.jpg
CATEGORIES:Community
LOCATION:Open Arms Community Church\, 2205 Danville Rd.\, Lebanon\, Kentuck
 y\, 40033\, Marion County\, United States
GEO:37.578429;-85.212781
X-APPLE-STRUCTURED-LOCATION;VALUE=URI;X-ADDRESS=2205 Danville Rd.\, Lebanon
 \, Kentucky\, 40033\, Marion County\, United States;X-APPLE-RADIUS=100;X-T
 ITLE=Open Arms Community Church:geo:37.578429,-85.212781
END:VEVENT
BEGIN:VTIMEZONE
TZID:America/Kentucky/Louisville
X-LIC-LOCATION:America/Kentucky/Louisville
BEGIN:DAYLIGHT
DTSTART:20260308T030000
TZOFFSETFROM:-0500
TZOFFSETTO:-0400
TZNAME:EDT
END:DAYLIGHT
END:VTIMEZONE
END:VCALENDAR