BEGIN:VCALENDAR
VERSION:2.0
PRODID:-//wp-events-plugin.com//7.2.3.1//EN
BEGIN:VEVENT
UID:5974@visitlebanonky.com
DTSTART;TZID=America/Kentucky/Louisville:20240818T170000
DTEND;TZID=America/Kentucky/Louisville:20240818T183000
DTSTAMP:20240809T182208Z
URL:https://visitlebanonky.com/events/k-of-c-fantasy-football-draft/
SUMMARY:K of C Fantasy Football Draft
DESCRIPTION:K of C Council #1264 will host our Annual Fantasy Football Draf
 t on August 18th at 5:00 pm at South Spalding Hall. Entry Fee $60
ATTACH;FMTTYPE=image/jpeg:https://visitlebanonky.com/wp-content/uploads/20
 24/08/football.jpg
CATEGORIES:Community
LOCATION:Knights of Columbus Hall\, 600 South Spalding Ave.\, Lebanon\, Ken
 tucky\, 40033\, Marion County\, United States
GEO:37.56278;-85.246128
X-APPLE-STRUCTURED-LOCATION;VALUE=URI;X-ADDRESS=600 South Spalding Ave.\, L
 ebanon\, Kentucky\, 40033\, Marion County\, United States;X-APPLE-RADIUS=1
 00;X-TITLE=Knights of Columbus Hall:geo:37.56278,-85.246128
END:VEVENT
BEGIN:VTIMEZONE
TZID:America/Kentucky/Louisville
X-LIC-LOCATION:America/Kentucky/Louisville
BEGIN:DAYLIGHT
DTSTART:20240310T030000
TZOFFSETFROM:-0500
TZOFFSETTO:-0400
TZNAME:EDT
END:DAYLIGHT
END:VTIMEZONE
END:VCALENDAR