BEGIN:VCALENDAR
VERSION:2.0
PRODID:-//wp-events-plugin.com//7.2.3.1//EN
BEGIN:VEVENT
UID:8890@visitlebanonky.com
DTSTART;TZID=America/Kentucky/Louisville:20260305T103000
DTEND;TZID=America/Kentucky/Louisville:20260305T140000
DTSTAMP:20260219T211540Z
URL:https://visitlebanonky.com/events/kentucky-blood-center-blood-drive-at
 -svh-2/
SUMMARY:Kentucky Blood Center Blood Drive at SVH
DESCRIPTION:Join Us for Our Upcoming Blood Drive at Spring View Hospital! \
 nMark your calendars for Thursday\, March 5\, from 10:30 AM to 2:00 PM! We
 ’re excited to partner with the Kentucky Blood Center to help save lives
  in our community!\nTo make it easy\, you can sign up online using the lin
 k below:\n👉 Sign Up HERE  \nWalk-ins are also welcome. As a thank you\,
  all donors will receive a limited-edition t-shirt!\nYour participation ca
 n make a difference —together\, we can help those in need!  
ATTACH;FMTTYPE=image/jpeg:https://visitlebanonky.com/wp-content/uploads/20
 26/02/blood-drive-at-svh.jpg
CATEGORIES:Community
LOCATION:Bloodmobile at Spring View Hospital\, 320 Loretto Road\, Lebanon\,
  Kentucky\, 40033\, Marion County\, United States
X-APPLE-STRUCTURED-LOCATION;VALUE=URI;X-ADDRESS=320 Loretto Road\, Lebanon\
 , Kentucky\, 40033\, Marion County\, United States;X-APPLE-RADIUS=100;X-TI
 TLE=Bloodmobile at Spring View Hospital:geo:0,0
END:VEVENT
BEGIN:VTIMEZONE
TZID:America/Kentucky/Louisville
X-LIC-LOCATION:America/Kentucky/Louisville
BEGIN:STANDARD
DTSTART:20251102T010000
TZOFFSETFROM:-0400
TZOFFSETTO:-0500
TZNAME:EST
END:STANDARD
END:VTIMEZONE
END:VCALENDAR