BEGIN:VCALENDAR
VERSION:2.0
PRODID:-//wp-events-plugin.com//7.2.3.1//EN
BEGIN:VEVENT
UID:7642@visitlebanonky.com
DTSTART;TZID=America/Kentucky/Louisville:20250531T190000
DTEND;TZID=America/Kentucky/Louisville:20250531T210000
DTSTAMP:20250531T163740Z
URL:https://visitlebanonky.com/events/kentucky-classic-arts-summer-concert
 s-dancing-in-the-streets-2/
SUMMARY:Kentucky Classic Arts Summer Concerts - Dancing in the Streets
DESCRIPTION:Dancing in the Street- Showtimes 2 and 7 p.m.\nBack on the Stre
 et by popular demand! Gary Vidito and the “Dancing in the Street” sing
 ers with a live band present the music of the 1960s! From the Beach Boys t
 o the Beatles through the best of Motown\, they’ll have you dancing in t
 he aisles and out into the street. Don’t miss the fun! \n🎟️ Tickets
  are on sale NOW — grab yours before they’re gone! Come celebrate the 
 music that made history with the talented artists bringing it all to life.
 \nhttps://kentuckyclassicarts.com/ticket-sales/
ATTACH;FMTTYPE=image/jpeg:https://visitlebanonky.com/wp-content/uploads/20
 25/04/Dancing-in-the-Streets.png
CATEGORIES:Official
LOCATION:Kentucky Classic ARTS at Centre Square\, 237 North Spalding Avenue
 \, Lebanon\, KY\, 40033\, United States
X-APPLE-STRUCTURED-LOCATION;VALUE=URI;X-ADDRESS=237 North Spalding Avenue\,
  Lebanon\, KY\, 40033\, United States;X-APPLE-RADIUS=100;X-TITLE=Kentucky 
 Classic ARTS at Centre Square:geo:0,0
END:VEVENT
BEGIN:VTIMEZONE
TZID:America/Kentucky/Louisville
X-LIC-LOCATION:America/Kentucky/Louisville
BEGIN:DAYLIGHT
DTSTART:20250309T030000
TZOFFSETFROM:-0500
TZOFFSETTO:-0400
TZNAME:EDT
END:DAYLIGHT
END:VTIMEZONE
END:VCALENDAR