BEGIN:VCALENDAR
VERSION:2.0
PRODID:-//wp-events-plugin.com//7.2.3.1//EN
BEGIN:VEVENT
UID:8685@visitlebanonky.com
DTSTART;TZID=America/Kentucky/Louisville:20260328T080000
DTEND;TZID=America/Kentucky/Louisville:20260328T200000
DTSTAMP:20260314T173236Z
URL:https://visitlebanonky.com/events/kentucky-pickleball-classic/
SUMMARY:Heart of Kentucky Pickleball Classic
DESCRIPTION:Interested in Giving Your Pickleball Skills a Test....\nThe Hea
 rt of Kentucky Pickleball Classic \nMarch 28. See flyer for times. Those l
 isted are just an estimate. \n5 Divisions / Double Elimination / T-Shirts 
 / Prizes / Fun\nSign Up at the Event Center\nFind the MCECS on Facebook HE
 RE
ATTACH;FMTTYPE=image/jpeg:https://visitlebanonky.com/wp-content/uploads/20
 26/01/pickelball-1.jpg
CATEGORIES:Community
LOCATION:Marion County Event Center and Sportsplex\, 101 Independence Drive
  \, LEBANON\, KY\, 40033\, Marion County\, United States
X-APPLE-STRUCTURED-LOCATION;VALUE=URI;X-ADDRESS=101 Independence Drive \, L
 EBANON\, KY\, 40033\, Marion County\, United States;X-APPLE-RADIUS=100;X-T
 ITLE=Marion County Event Center and Sportsplex:geo:0,0
END:VEVENT
BEGIN:VTIMEZONE
TZID:America/Kentucky/Louisville
X-LIC-LOCATION:America/Kentucky/Louisville
BEGIN:DAYLIGHT
DTSTART:20260308T030000
TZOFFSETFROM:-0500
TZOFFSETTO:-0400
TZNAME:EDT
END:DAYLIGHT
END:VTIMEZONE
END:VCALENDAR