BEGIN:VCALENDAR
VERSION:2.0
PRODID:-//wp-events-plugin.com//7.2.3.1//EN
BEGIN:VEVENT
UID:8640@visitlebanonky.com
DTSTART;TZID=America/Kentucky/Louisville:20260124T000000
DTEND;TZID=America/Kentucky/Louisville:20260124T000000
DTSTAMP:20260114T004206Z
URL:https://visitlebanonky.com/events/key-lounges-western-night/
SUMMARY:Key Lounge's Western Night
DESCRIPTION:You can follow the Key Lounge HERE
ATTACH;FMTTYPE=image/jpeg:https://visitlebanonky.com/wp-content/uploads/20
 26/01/key-lounge.jpg
CATEGORIES:Community
LOCATION:Key Lounge\, 109 North Depot Street\, Lebanon\, Kentucky\, 40033\,
  Marion County\, United States
GEO:37.568321;-85.256082
X-APPLE-STRUCTURED-LOCATION;VALUE=URI;X-ADDRESS=109 North Depot Street\, Le
 banon\, Kentucky\, 40033\, Marion County\, United States;X-APPLE-RADIUS=10
 0;X-TITLE=Key Lounge:geo:37.568321,-85.256082
END:VEVENT
BEGIN:VTIMEZONE
TZID:America/Kentucky/Louisville
X-LIC-LOCATION:America/Kentucky/Louisville
BEGIN:STANDARD
DTSTART:20251102T010000
TZOFFSETFROM:-0400
TZOFFSETTO:-0500
TZNAME:EST
END:STANDARD
END:VTIMEZONE
END:VCALENDAR