BEGIN:VCALENDAR
VERSION:2.0
PRODID:-//wp-events-plugin.com//7.2.3.1//EN
BEGIN:VEVENT
UID:8641@visitlebanonky.com
DTSTART;TZID=America/Kentucky/Louisville:20260206T090000
DTEND;TZID=America/Kentucky/Louisville:20260206T180000
DTSTAMP:20260129T192009Z
URL:https://visitlebanonky.com/events/kindergarten-registration-2/
SUMMARY:Kindergarten Registration
DESCRIPTION:UPDATE: Kindergarten registration has been rescheduled for Febr
 uary 6 from 9:00 am - 6:00 pm.\n \nMarion County Public Schools will host 
 kindergarten registration Friday\, February 6 from 9:00 am - 6:00 pm at ea
 ch of the district’s four elementary schools.\nParents of children who p
 lan to enroll in MCPS kindergarten are asked to bring their child to the r
 egistration event along with their child’s birth certificate\, immunizat
 ion records\, physical exam\, dental exam\, eye exam and proof of residenc
 y (for example\, a utility bill). No appointment is necessary.\nThe event 
 will include a kindergarten-readiness screening of the students.\nKinderga
 rten is open for children who will be five years old on or before August 1
 \, 2026.\nParents should attend registration at the school where their chi
 ld will enroll. If parents are unsure which elementary school their child 
 will attend\, they can contact MCPS Director of Early Childhood Education 
 Amy Willis by phone at the MCPS central office at (270) 692-3721 or by ema
 il at amy.willis@marion.kyschools.us. You can also view our attendance zon
 e maps: HERE   \nElementary School Addresses:\nCalvary Elementary School -
 - 3345 Highway 208 Lebanon\, KY 40033\nGlasscock Elementary School -- 773 
 East Main Street Lebanon\, KY 40033\nLebanon Elementary School -- 420 West
  Main Street Lebanon\, Kentucky 40033\nWest Marion Elementary School -- 81
 75 Loretto Road Loretto\, KY 40037\n\n 
ATTACH;FMTTYPE=image/jpeg:https://visitlebanonky.com/wp-content/uploads/20
 26/01/kindergarten-reg.jpg
CATEGORIES:Community
END:VEVENT
BEGIN:VTIMEZONE
TZID:America/Kentucky/Louisville
X-LIC-LOCATION:America/Kentucky/Louisville
BEGIN:STANDARD
DTSTART:20251102T010000
TZOFFSETFROM:-0400
TZOFFSETTO:-0500
TZNAME:EST
END:STANDARD
END:VTIMEZONE
END:VCALENDAR