BEGIN:VCALENDAR
VERSION:2.0
PRODID:-//wp-events-plugin.com//7.2.3.1//EN
BEGIN:VEVENT
UID:8941@visitlebanonky.com
DTSTART;TZID=America/Kentucky/Louisville:20260402T173000
DTEND;TZID=America/Kentucky/Louisville:20260402T210000
DTSTAMP:20260306T170850Z
URL:https://visitlebanonky.com/events/kiwanis-bunco-fundraiser/
SUMMARY:Kiwanis Bunco Fundraiser
DESCRIPTION:Join us for a fun night of Bunco to raise funds for the charita
 ble endeavors of the Lebanon Kiwanis Club! We support the children of Mari
 on County through many avenues and outreach programs.\nTickets are $35 and
  include a meal of BBQ Pork\, Chicken Tenders\, Sides\, Desserts and Drink
 s.\nPrizes awarded for: Most Wins\; Least Wins\; Last Bunco! Plus several 
 door prizes.\nDoors open at 5:30\nTo Register- scan the QR code\, call Liz
  Lawson at (270)402-4877 or visit this link HERE\nPayment is required to r
 eserve your spot. See flyer for the payment options. You can follow the ev
 ent on Facebook HERE 
ATTACH;FMTTYPE=image/jpeg:https://visitlebanonky.com/wp-content/uploads/20
 26/03/bunco.jpg
CATEGORIES:Community
LOCATION:Venue 68\, 212 W Main St\, Lebanon\, KY/Marion\, 40033\, United St
 ates
X-APPLE-STRUCTURED-LOCATION;VALUE=URI;X-ADDRESS=212 W Main St\, Lebanon\, K
 Y/Marion\, 40033\, United States;X-APPLE-RADIUS=100;X-TITLE=Venue 68:geo:0
 ,0
END:VEVENT
BEGIN:VTIMEZONE
TZID:America/Kentucky/Louisville
X-LIC-LOCATION:America/Kentucky/Louisville
BEGIN:DAYLIGHT
DTSTART:20260308T030000
TZOFFSETFROM:-0500
TZOFFSETTO:-0400
TZNAME:EDT
END:DAYLIGHT
END:VTIMEZONE
END:VCALENDAR