BEGIN:VCALENDAR
VERSION:2.0
PRODID:-//wp-events-plugin.com//7.2.3.1//EN
BEGIN:VEVENT
UID:9193@visitlebanonky.com
DTSTART:20260416T000000Z
DTEND:20260416T000000Z
DTSTAMP:20260414T215202Z
URL:https://visitlebanonky.com/events/knight-band-fundraiser/
SUMMARY:Knight Band Fundraiser
DESCRIPTION:Like chicken? Want to support the band? If you answered yes\, t
 hen I have the perfect opportunity for you. It's simple\, just come on dow
 n to Lee's Famous Recipe in Lebanon this Thursday\, get you some delicious
  chicken\, and a proceed of the sales help out the Marion Band! Tell your 
 friends and family!
ATTACH;FMTTYPE=image/jpeg:https://visitlebanonky.com/wp-content/uploads/20
 26/04/knight-band.jpg
CATEGORIES:Community
LOCATION:Lees Famous Recipe\, West Main Street\, LEBANON\, KY\, 40033\, Mar
 ion County\, United States
X-APPLE-STRUCTURED-LOCATION;VALUE=URI;X-ADDRESS=West Main Street\, LEBANON\
 , KY\, 40033\, Marion County\, United States;X-APPLE-RADIUS=100;X-TITLE=Le
 es Famous Recipe:geo:0,0
END:VEVENT
END:VCALENDAR