BEGIN:VCALENDAR
VERSION:2.0
PRODID:-//wp-events-plugin.com//7.2.3.1//EN
BEGIN:VEVENT
UID:5948@visitlebanonky.com
DTSTART;TZID=America/Kentucky/Louisville:20240809T180000
DTEND;TZID=America/Kentucky/Louisville:20240809T200000
DTSTAMP:20240727T030444Z
URL:https://visitlebanonky.com/events/knight-madness-with-mcms-lady-knight
 s/
SUMMARY:Knight Madness with MCMS Lady Knights
DESCRIPTION: 
ATTACH;FMTTYPE=image/jpeg:https://visitlebanonky.com/wp-content/uploads/20
 24/07/knight-madness.jpg
CATEGORIES:Community
LOCATION:Marion County Middle School\, 1155 Highway 327\, Lebanon\, Kentuck
 y\, 40033\, Marion County\, United States
GEO:37.587073;-85.344251
X-APPLE-STRUCTURED-LOCATION;VALUE=URI;X-ADDRESS=1155 Highway 327\, Lebanon\
 , Kentucky\, 40033\, Marion County\, United States;X-APPLE-RADIUS=100;X-TI
 TLE=Marion County Middle School:geo:37.587073,-85.344251
END:VEVENT
BEGIN:VTIMEZONE
TZID:America/Kentucky/Louisville
X-LIC-LOCATION:America/Kentucky/Louisville
BEGIN:DAYLIGHT
DTSTART:20240310T030000
TZOFFSETFROM:-0500
TZOFFSETTO:-0400
TZNAME:EDT
END:DAYLIGHT
END:VTIMEZONE
END:VCALENDAR