BEGIN:VCALENDAR
VERSION:2.0
PRODID:-//wp-events-plugin.com//7.2.3.1//EN
BEGIN:VEVENT
UID:8321@visitlebanonky.com
DTSTART;TZID=America/Kentucky/Louisville:20251122T130000
DTEND;TZID=America/Kentucky/Louisville:20251123T130000
DTSTAMP:20251110T221445Z
URL:https://visitlebanonky.com/events/knights-of-columbus-24-hour-food-dri
 ve/
SUMMARY:Knights of Columbus 24-Hour Food Drive
DESCRIPTION:Accepting non-perishable food items\, coats\, gloves\, and wint
 er hats. Location: St. Augustine School parking lot.
ATTACH;FMTTYPE=image/jpeg:https://visitlebanonky.com/wp-content/uploads/20
 25/11/food-drive.jpg
CATEGORIES:Community
LOCATION:St. Augustine School Parking Lot\, 236 S. Spalding Ave.\, Lebanon\
 , KY/Marion\, 40033\, Marion County\, United States
X-APPLE-STRUCTURED-LOCATION;VALUE=URI;X-ADDRESS=236 S. Spalding Ave.\, Leba
 non\, KY/Marion\, 40033\, Marion County\, United States;X-APPLE-RADIUS=100
 ;X-TITLE=St. Augustine School Parking Lot:geo:0,0
END:VEVENT
BEGIN:VTIMEZONE
TZID:America/Kentucky/Louisville
X-LIC-LOCATION:America/Kentucky/Louisville
BEGIN:STANDARD
DTSTART:20251102T010000
TZOFFSETFROM:-0400
TZOFFSETTO:-0500
TZNAME:EST
END:STANDARD
END:VTIMEZONE
END:VCALENDAR