BEGIN:VCALENDAR
VERSION:2.0
PRODID:-//wp-events-plugin.com//7.2.3.1//EN
BEGIN:VEVENT
UID:8320@visitlebanonky.com
DTSTART;TZID=America/Kentucky/Louisville:20251130T100000
DTEND;TZID=America/Kentucky/Louisville:20251130T113000
DTSTAMP:20251110T221125Z
URL:https://visitlebanonky.com/events/knights-of-columbus-5th-sunday-break
 fast-2/
SUMMARY:Knights of Columbus 5th Sunday Breakfast
DESCRIPTION:Start making your plans now for the Knights of Columbus 5th Sun
 day Breakfast on November 30 at 10 a.m. Advanced tickets are $5 and can be
  purchased at Southall Pharmacy. Tickets at the door are $7 (Cash or check
  only.)
ATTACH;FMTTYPE=image/jpeg:https://visitlebanonky.com/wp-content/uploads/20
 25/11/5TH-SUNDAY-BREAKFAST.jpg
CATEGORIES:Community
LOCATION:Knights of Columbus Hall\, 600 South Spalding Ave.\, Lebanon\, Ken
 tucky\, 40033\, Marion County\, United States
GEO:37.56278;-85.246128
X-APPLE-STRUCTURED-LOCATION;VALUE=URI;X-ADDRESS=600 South Spalding Ave.\, L
 ebanon\, Kentucky\, 40033\, Marion County\, United States;X-APPLE-RADIUS=1
 00;X-TITLE=Knights of Columbus Hall:geo:37.56278,-85.246128
END:VEVENT
BEGIN:VTIMEZONE
TZID:America/Kentucky/Louisville
X-LIC-LOCATION:America/Kentucky/Louisville
BEGIN:STANDARD
DTSTART:20251102T010000
TZOFFSETFROM:-0400
TZOFFSETTO:-0500
TZNAME:EST
END:STANDARD
END:VTIMEZONE
END:VCALENDAR