BEGIN:VCALENDAR
VERSION:2.0
PRODID:-//wp-events-plugin.com//7.2.3.1//EN
BEGIN:VEVENT
UID:6716@visitlebanonky.com
DTSTART;TZID=America/Kentucky/Louisville:20241229T100000
DTEND;TZID=America/Kentucky/Louisville:20241229T120000
DTSTAMP:20241227T034925Z
URL:https://visitlebanonky.com/events/knights-of-columbus-5th-sunday-break
 fast-6/
SUMMARY:Knights of Columbus 5th Sunday Breakfast
DESCRIPTION:🌟🌟 SUNDAY SUNDAY SUNDAY 🌟🌟\nCome Join Us for the\nK
  of C 5th Sunday Breakfast @ 10:00 am\nAdvanced Tickets $5.00 @ Southall P
 harmacy\nTickets at the Door $7:00\n\nYou can find this and other events o
 n their Facebook page at https://www.facebook.com/kofc1264
ATTACH;FMTTYPE=image/jpeg:https://visitlebanonky.com/wp-content/uploads/20
 24/12/5th-sunday.jpg
CATEGORIES:Community
LOCATION:Knights of Columbus Hall\, 600 South Spalding Ave.\, Lebanon\, Ken
 tucky\, 40033\, Marion County\, United States
GEO:37.56278;-85.246128
X-APPLE-STRUCTURED-LOCATION;VALUE=URI;X-ADDRESS=600 South Spalding Ave.\, L
 ebanon\, Kentucky\, 40033\, Marion County\, United States;X-APPLE-RADIUS=1
 00;X-TITLE=Knights of Columbus Hall:geo:37.56278,-85.246128
END:VEVENT
BEGIN:VTIMEZONE
TZID:America/Kentucky/Louisville
X-LIC-LOCATION:America/Kentucky/Louisville
BEGIN:STANDARD
DTSTART:20241103T010000
TZOFFSETFROM:-0400
TZOFFSETTO:-0500
TZNAME:EST
END:STANDARD
END:VTIMEZONE
END:VCALENDAR