BEGIN:VCALENDAR
VERSION:2.0
PRODID:-//wp-events-plugin.com//7.2.3.1//EN
BEGIN:VEVENT
UID:8632@visitlebanonky.com
DTSTART;TZID=America/Kentucky/Louisville:20260115T120000
DTEND;TZID=America/Kentucky/Louisville:20260115T130000
DTSTAMP:20260113T200630Z
URL:https://visitlebanonky.com/events/knowledge-at-noon-series/
SUMMARY:Knowledge at Noon Series
DESCRIPTION:Knowledge @ Noon: Lunch & Learn Series\nJoin Heartland Coalitio
 n for our first Knowledge @ Noon lunch and learn event on January 15\, 202
 6 at Marion County Public Library:\nCommunity Approach to Addiction\, Stig
 ma\, and Recovery Support\nPresented by Joyce Johnson\, Intensive Health\n
 This open community conversation will focus on understanding addiction\, b
 reaking down stigma\, and exploring how we can better support recovery rig
 ht here in Marion County. Attendees will learn about local resources\, hea
 r from individuals with lived experience\, and discover meaningful ways we
  can all help build a more compassionate\, informed\, and supportive commu
 nity.\nWhether you’re a community member\, caregiver\, professional\, or
  simply curious\, your voice matters at the table. Bring your lunch and jo
 in the conversation—we’ll bring the knowledge.\nNoon | Open to the com
 munity\nLearn. Listen. Connect.\nYou can find this group on Facebook HERE
ATTACH;FMTTYPE=image/jpeg:https://visitlebanonky.com/wp-content/uploads/20
 26/01/lunch-and-learn.jpg
CATEGORIES:Community
LOCATION:Marion County Public Library\, 201 E Main St\, Lebanon\, KY/Marion
 \, 40033\, Marion County\, United States
X-APPLE-STRUCTURED-LOCATION;VALUE=URI;X-ADDRESS=201 E Main St\, Lebanon\, K
 Y/Marion\, 40033\, Marion County\, United States;X-APPLE-RADIUS=100;X-TITL
 E=Marion County Public Library:geo:0,0
END:VEVENT
BEGIN:VTIMEZONE
TZID:America/Kentucky/Louisville
X-LIC-LOCATION:America/Kentucky/Louisville
BEGIN:STANDARD
DTSTART:20251102T010000
TZOFFSETFROM:-0400
TZOFFSETTO:-0500
TZNAME:EST
END:STANDARD
END:VTIMEZONE
END:VCALENDAR