BEGIN:VCALENDAR
VERSION:2.0
PRODID:-//wp-events-plugin.com//7.2.3.1//EN
BEGIN:VEVENT
UID:9076@visitlebanonky.com
DTSTART;TZID=America/Kentucky/Louisville:20260707T170000
DTEND;TZID=America/Kentucky/Louisville:20260707T220000
DTSTAMP:20260319T042857Z
URL:https://visitlebanonky.com/events/koi-drag-racing-at-the-mc-fairground
 s-2/
SUMMARY:KOI Drag Racing at the MC Fairgrounds
DESCRIPTION:From the event page on Facebook HERE\nKOI Drag Racing will be a
 t The Marion County Kentucky Fair on Tuesday July 7 for side by side heads
  up drag racing.\nWe will have classes for everything at this race. Practi
 ce and registration will start at 5 p.m. and eliminations will start at 7 
 p.m.\nClasses are $10 each except for the diesel trucks\, hot gas and Open
  Trucks and they are $20 each. All Classes are 100 percent payback.\nFor m
 ore information on classes and rules please go HERE or call Lewis at 859-5
 76-7380.\n 
ATTACH;FMTTYPE=image/jpeg:https://visitlebanonky.com/wp-content/uploads/20
 26/03/KOI.jpg
CATEGORIES:Official
LOCATION:Marion County Fairgrounds\, 700 Fairgrounds Road\, Lebanon\, Kentu
 cky\, 40033\, Marion County\, United States
GEO:37.563672;-85.238002
X-APPLE-STRUCTURED-LOCATION;VALUE=URI;X-ADDRESS=700 Fairgrounds Road\, Leba
 non\, Kentucky\, 40033\, Marion County\, United States;X-APPLE-RADIUS=100;
 X-TITLE=Marion County Fairgrounds:geo:37.563672,-85.238002
END:VEVENT
BEGIN:VTIMEZONE
TZID:America/Kentucky/Louisville
X-LIC-LOCATION:America/Kentucky/Louisville
BEGIN:DAYLIGHT
DTSTART:20260308T030000
TZOFFSETFROM:-0500
TZOFFSETTO:-0400
TZNAME:EDT
END:DAYLIGHT
END:VTIMEZONE
END:VCALENDAR