BEGIN:VCALENDAR
VERSION:2.0
PRODID:-//wp-events-plugin.com//7.2.3.1//EN
BEGIN:VEVENT
UID:7560@visitlebanonky.com
DTSTART;TZID=America/Kentucky/Louisville:20250501T103000
DTEND;TZID=America/Kentucky/Louisville:20250501T140000
DTSTAMP:20250428T001051Z
URL:https://visitlebanonky.com/events/ky-blood-center-blood-drive-at-sprin
 g-view-hospital-3/
SUMMARY:Ky Blood Center Blood drive at Spring View Hospital
DESCRIPTION:You can find other blood drives or register online at https://m
 y.kybloodcenter.org/donor/schedules/zip \n\nThe Kentucky Blood Center Bloo
 dmobile will be at Spring View Hospital.\n\nKENTUCKY BLOOD CENTER\n3121 Be
 aumont Centre Circle\nLexington\, KY 40513\n\nOffice: 859.276.2534\nToll-F
 ree: 800.775.2522\nFax: 859.519.3784
ATTACH;FMTTYPE=image/jpeg:https://visitlebanonky.com/wp-content/uploads/20
 25/04/blood-drive.jpg
CATEGORIES:Community
LOCATION:Spring View Hospital\, 320 Loretto Road\, Lebanon\, KY/Marion\, 40
 033\, Marion County\, United States
X-APPLE-STRUCTURED-LOCATION;VALUE=URI;X-ADDRESS=320 Loretto Road\, Lebanon\
 , KY/Marion\, 40033\, Marion County\, United States;X-APPLE-RADIUS=100;X-T
 ITLE=Spring View Hospital:geo:0,0
END:VEVENT
BEGIN:VTIMEZONE
TZID:America/Kentucky/Louisville
X-LIC-LOCATION:America/Kentucky/Louisville
BEGIN:DAYLIGHT
DTSTART:20250309T030000
TZOFFSETFROM:-0500
TZOFFSETTO:-0400
TZNAME:EDT
END:DAYLIGHT
END:VTIMEZONE
END:VCALENDAR