BEGIN:VCALENDAR
VERSION:2.0
PRODID:-//wp-events-plugin.com//7.2.3.1//EN
BEGIN:VEVENT
UID:5944@visitlebanonky.com
DTSTART;TZID=America/Kentucky/Louisville:20240810T000000
DTEND;TZID=America/Kentucky/Louisville:20240811T000000
DTSTAMP:20240725T050610Z
URL:https://visitlebanonky.com/events/lady-knights-pre-season-basketball-j
 amboree/
SUMMARY:Lady Knights Pre Season Basketball Jamboree
DESCRIPTION:🗣️🗣️ Come Kick Your Season off at the Roby Dome🏀
 🏀🏀🏀🏀🏀🏀🏀🏀\n🚨$100 Entry Fee per team (2 GG)\n🚨
 MCHS Roby Dome🚨\nMore Info Contact \nCoach Brown \nAaron.Brown@marion.k
 yschools.us\nMichael Holt\nMichael.holt@marion.kyschools.us
ATTACH;FMTTYPE=image/jpeg:https://visitlebanonky.com/wp-content/uploads/20
 24/07/kick-off.jpg
CATEGORIES:Community
LOCATION:MCHS Roby Dome\, 735 East Main Street\, Lebanon\, Kentucky\, 40033
 \, Marion County\, United States
GEO:37.574128;-85.242018
X-APPLE-STRUCTURED-LOCATION;VALUE=URI;X-ADDRESS=735 East Main Street\, Leba
 non\, Kentucky\, 40033\, Marion County\, United States;X-APPLE-RADIUS=100;
 X-TITLE=MCHS Roby Dome:geo:37.574128,-85.242018
END:VEVENT
BEGIN:VTIMEZONE
TZID:America/Kentucky/Louisville
X-LIC-LOCATION:America/Kentucky/Louisville
BEGIN:DAYLIGHT
DTSTART:20240310T030000
TZOFFSETFROM:-0500
TZOFFSETTO:-0400
TZNAME:EDT
END:DAYLIGHT
END:VTIMEZONE
END:VCALENDAR