BEGIN:VCALENDAR
VERSION:2.0
PRODID:-//wp-events-plugin.com//7.2.3.1//EN
BEGIN:VEVENT
UID:6324@visitlebanonky.com
DTSTART;TZID=America/Kentucky/Louisville:20241129T170000
DTEND;TZID=America/Kentucky/Louisville:20241129T210000
DTSTAMP:20241022T222521Z
URL:https://visitlebanonky.com/events/leadership-lebanan-silent-auction-at
 -dickens-christmas-2024/
SUMMARY:Leadership Lebanan Silent Auction at Dicken's Christmas 2024
DESCRIPTION:Leadership Lebanon - Marion County KY\n \nLeadership Lebanon in
 vites you to their silent auction at Dicken’s Christmas! 🎄 Share this
  invitation with others and participate in the bidding on numerous excitin
 g items. Enjoy the festivities in downtown Lebanon and visit local vendors
  in the Jesse Insurance parking lot.
ATTACH;FMTTYPE=image/jpeg:https://visitlebanonky.com/wp-content/uploads/20
 24/10/leadership-lebanon-silent-auction.jpg
CATEGORIES:Official
LOCATION:Jesse Insurance Parking Lot\, 101 S Spalding Ave\, Lebanon\, Kentu
 cky\, 40033\, Marion County\, United States
GEO:37.565428;-85.249774
X-APPLE-STRUCTURED-LOCATION;VALUE=URI;X-ADDRESS=101 S Spalding Ave\, Lebano
 n\, Kentucky\, 40033\, Marion County\, United States;X-APPLE-RADIUS=100;X-
 TITLE=Jesse Insurance Parking Lot:geo:37.565428,-85.249774
END:VEVENT
BEGIN:VTIMEZONE
TZID:America/Kentucky/Louisville
X-LIC-LOCATION:America/Kentucky/Louisville
BEGIN:STANDARD
DTSTART:20241103T010000
TZOFFSETFROM:-0400
TZOFFSETTO:-0500
TZNAME:EST
END:STANDARD
END:VTIMEZONE
END:VCALENDAR