BEGIN:VCALENDAR
VERSION:2.0
PRODID:-//wp-events-plugin.com//7.2.3.1//EN
BEGIN:VEVENT
UID:8178@visitlebanonky.com
DTSTART;TZID=America/Kentucky/Louisville:20251128T170000
DTEND;TZID=America/Kentucky/Louisville:20251128T200000
DTSTAMP:20251029T014019Z
URL:https://visitlebanonky.com/events/leadership-lebanon-dickens-christmas
 -craft-fair-silent-auction/
SUMMARY:Leadership Lebanon Dickens Christmas Craft Fair & Silent Auction
DESCRIPTION:🎄✨ Leadership Lebanon Dickens Christmas Craft Fair & Silen
 t Auction! ✨🎄\n🗓 Friday\, November 28\, 2025\n🕔 5:00 PM – 8:0
 0 PM\n📍 Jessie’s Insurance Parking Lot\nAll proceeds will benefit Lov
 e Like Caroline Foundation and Central KY Community Action Council\, Inc. 
 ❤️\nInterested in donating or reserving a booth?\nPlease contact us by
  November 14\, 2025:\n📧 info@marioncountykychamber.com\n📞 270-692-95
 94\nLet’s make this holiday season magical while supporting two incredib
 le local causes! 🌟\n\nFor more information check out our Facebook page 
 at https://www.facebook.com/leadershiplebanon 
ATTACH;FMTTYPE=image/jpeg:https://visitlebanonky.com/wp-content/uploads/20
 25/10/leadership.jpg
CATEGORIES:Community
LOCATION:Jesse Insurance Parking Lot\, 101 S Spalding Ave\, Lebanon\, Kentu
 cky\, 40033\, Marion County\, United States
GEO:37.565428;-85.249774
X-APPLE-STRUCTURED-LOCATION;VALUE=URI;X-ADDRESS=101 S Spalding Ave\, Lebano
 n\, Kentucky\, 40033\, Marion County\, United States;X-APPLE-RADIUS=100;X-
 TITLE=Jesse Insurance Parking Lot:geo:37.565428,-85.249774
END:VEVENT
BEGIN:VTIMEZONE
TZID:America/Kentucky/Louisville
X-LIC-LOCATION:America/Kentucky/Louisville
BEGIN:STANDARD
DTSTART:20251102T010000
TZOFFSETFROM:-0400
TZOFFSETTO:-0500
TZNAME:EST
END:STANDARD
END:VTIMEZONE
END:VCALENDAR