BEGIN:VCALENDAR
VERSION:2.0
PRODID:-//wp-events-plugin.com//7.2.3.1//EN
BEGIN:VEVENT
UID:8949@visitlebanonky.com
DTSTART;TZID=America/Kentucky/Louisville:20260326T183000
DTEND;TZID=America/Kentucky/Louisville:20260326T200000
DTSTAMP:20260306T173007Z
URL:https://visitlebanonky.com/events/learn-spanish-class/
SUMMARY:Learn Spanish Class
DESCRIPTION:To register\, please fill out this registration form HERE\nYou 
 can find this event on Facebook HERE\nWe are pleased to announce the launc
 h of Spanish Classes in Lebanon\, KY.\nThis course is designed to provide 
 practical\, conversational Spanish. Whether you are learning for personal 
 growth\, professional development\, or community engagement\, all levels a
 re welcome.\nClasses begin Thursday\, March 26 at 6:30 PM\nAbundant Life C
 hurch\n549 N Spalding Ave.\, Lebanon\, KY\nIf you know someone who may be 
 interested in learning Spanish\, share this post with them.\nWe look forwa
 rd to serving our community through education and connection.
ATTACH;FMTTYPE=image/jpeg:https://visitlebanonky.com/wp-content/uploads/20
 26/03/learn-spanish.jpg
CATEGORIES:Community
LOCATION:Abundant Life Church\, 549 N Spalding Avenue\, Lebanon\, Kentucky\
 , 40033\, Marion County\, United States
GEO:37.581432;-85.252528
X-APPLE-STRUCTURED-LOCATION;VALUE=URI;X-ADDRESS=549 N Spalding Avenue\, Leb
 anon\, Kentucky\, 40033\, Marion County\, United States;X-APPLE-RADIUS=100
 ;X-TITLE=Abundant Life Church:geo:37.581432,-85.252528
END:VEVENT
BEGIN:VTIMEZONE
TZID:America/Kentucky/Louisville
X-LIC-LOCATION:America/Kentucky/Louisville
BEGIN:DAYLIGHT
DTSTART:20260308T030000
TZOFFSETFROM:-0500
TZOFFSETTO:-0400
TZNAME:EDT
END:DAYLIGHT
END:VTIMEZONE
END:VCALENDAR