BEGIN:VCALENDAR
VERSION:2.0
PRODID:-//wp-events-plugin.com//7.2.3.1//EN
BEGIN:VEVENT
UID:7842@visitlebanonky.com
DTSTART;TZID=America/Kentucky/Louisville:20250806T180000
DTEND;TZID=America/Kentucky/Louisville:20250806T200000
DTSTAMP:20250731T220436Z
URL:https://visitlebanonky.com/events/lebanon-baptist-church-back-to-schoo
 l-bash/
SUMMARY:Lebanon Baptist Church Back to School Bash
DESCRIPTION:We would like to invite all 1st through 5th grade kids to come 
 have an amazing time with us. We will have a foam party and food. We are l
 ooking forward to celebrating back to school with you!
ATTACH;FMTTYPE=image/jpeg:https://visitlebanonky.com/wp-content/uploads/20
 25/07/leb-bap.jpg
CATEGORIES:Community
LOCATION:Lebanon Baptist Church Youth Building\, 144 E. Mulberry St.\, Leba
 non\, Kentucky\, 40033\, Marion County\, United States
GEO:37.569336;-85.251064
X-APPLE-STRUCTURED-LOCATION;VALUE=URI;X-ADDRESS=144 E. Mulberry St.\, Leban
 on\, Kentucky\, 40033\, Marion County\, United States;X-APPLE-RADIUS=100;X
 -TITLE=Lebanon Baptist Church Youth Building:geo:37.569336,-85.251064
END:VEVENT
BEGIN:VTIMEZONE
TZID:America/Kentucky/Louisville
X-LIC-LOCATION:America/Kentucky/Louisville
BEGIN:DAYLIGHT
DTSTART:20250309T030000
TZOFFSETFROM:-0500
TZOFFSETTO:-0400
TZNAME:EDT
END:DAYLIGHT
END:VTIMEZONE
END:VCALENDAR