BEGIN:VCALENDAR
VERSION:2.0
PRODID:-//wp-events-plugin.com//7.2.3.1//EN
BEGIN:VEVENT
UID:9146@visitlebanonky.com
DTSTART;TZID=America/Kentucky/Louisville:20260418T090000
DTEND;TZID=America/Kentucky/Louisville:20260418T170000
DTSTAMP:20260331T174127Z
URL:https://visitlebanonky.com/events/lebanon-baptist-churchs-womens-confe
 rence/
SUMMARY:Lebanon Baptist Church's Women's Conference
DESCRIPTION:Find the church on Facebook HERE
ATTACH;FMTTYPE=image/jpeg:https://visitlebanonky.com/wp-content/uploads/20
 26/03/womens-conference.jpg
CATEGORIES:Community
LOCATION:Lebanon Baptist Church Youth Building\, 144 E. Mulberry St.\, Leba
 non\, Kentucky\, 40033\, Marion County\, United States
GEO:37.569336;-85.251064
X-APPLE-STRUCTURED-LOCATION;VALUE=URI;X-ADDRESS=144 E. Mulberry St.\, Leban
 on\, Kentucky\, 40033\, Marion County\, United States;X-APPLE-RADIUS=100;X
 -TITLE=Lebanon Baptist Church Youth Building:geo:37.569336,-85.251064
END:VEVENT
BEGIN:VTIMEZONE
TZID:America/Kentucky/Louisville
X-LIC-LOCATION:America/Kentucky/Louisville
BEGIN:DAYLIGHT
DTSTART:20260308T030000
TZOFFSETFROM:-0500
TZOFFSETTO:-0400
TZNAME:EDT
END:DAYLIGHT
END:VTIMEZONE
END:VCALENDAR