BEGIN:VCALENDAR
VERSION:2.0
PRODID:-//wp-events-plugin.com//7.2.3.1//EN
BEGIN:VEVENT
UID:8085@visitlebanonky.com
DTSTART;TZID=America/Kentucky/Louisville:20251114T170000
DTEND;TZID=America/Kentucky/Louisville:20251114T190000
DTSTAMP:20251008T192009Z
URL:https://visitlebanonky.com/events/lebanon-elementary-chili-supper/
SUMMARY:Lebanon Elementary Chili Supper
DESCRIPTION: For upcoming details follow Lebanon Elementary PTSO on Faceboo
 k at https://www.facebook.com/profile.php?id=100064814733491
ATTACH;FMTTYPE=image/jpeg:https://visitlebanonky.com/wp-content/uploads/20
 25/10/LES-Chili.jpg
CATEGORIES:Community
LOCATION:Lebanon Elementary School\, 420 W. Main St.\, Lebanon\, KY/Marion\
 , 40033\, Marion County\, United States
X-APPLE-STRUCTURED-LOCATION;VALUE=URI;X-ADDRESS=420 W. Main St.\, Lebanon\,
  KY/Marion\, 40033\, Marion County\, United States;X-APPLE-RADIUS=100;X-TI
 TLE=Lebanon Elementary School:geo:0,0
END:VEVENT
BEGIN:VTIMEZONE
TZID:America/Kentucky/Louisville
X-LIC-LOCATION:America/Kentucky/Louisville
BEGIN:STANDARD
DTSTART:20251102T010000
TZOFFSETFROM:-0400
TZOFFSETTO:-0500
TZNAME:EST
END:STANDARD
END:VTIMEZONE
END:VCALENDAR