BEGIN:VCALENDAR
VERSION:2.0
PRODID:-//wp-events-plugin.com//7.2.3.1//EN
BEGIN:VEVENT
UID:8091@visitlebanonky.com
DTSTART;TZID=America/Kentucky/Louisville:20251126T160000
DTEND;TZID=America/Kentucky/Louisville:20251126T200000
DTSTAMP:20251125T005334Z
URL:https://visitlebanonky.com/events/lebanon-farmers-market-winter-market
 -2/
SUMMARY:Lebanon Farmers Market Winter Market
DESCRIPTION:Come celebrate the season at the Winter Market hosted by Lebano
 n KY Farmer’s Market!  \n🗓 Wednesday\, November 26 | 4–8 PM  \n📍
  Marion County Event Center and Sportsplex  \n101 Independence Dr\, Lebano
 n KY\nShop local and discover:  \n🥬 Fresh produce  \n🍞 BAKED GOODS  
 \n🍯 Honey & canned goods  \n🕯 Candles & crafts  \n🧵 Leather goods
   \n🧩 3D printed creations  \n… and so much more!\nBring your friends
 \, your family\, and your holiday spirit — it’s going to be a cozy\, c
 ommunity-filled evening you won’t want to miss!\n\nCheck out our page on
  Facebook HERE for vendor announcements\, special features\, and monthly t
 hemes — this winter is going to be full of heart.\n 
ATTACH;FMTTYPE=image/jpeg:https://visitlebanonky.com/wp-content/uploads/20
 25/10/winter-market.jpg
CATEGORIES:Community
LOCATION:Marion County Event Center and Sportsplex\, 101 Independence Drive
  \, LEBANON\, KY\, 40033\, Marion County\, United States
X-APPLE-STRUCTURED-LOCATION;VALUE=URI;X-ADDRESS=101 Independence Drive \, L
 EBANON\, KY\, 40033\, Marion County\, United States;X-APPLE-RADIUS=100;X-T
 ITLE=Marion County Event Center and Sportsplex:geo:0,0
END:VEVENT
BEGIN:VTIMEZONE
TZID:America/Kentucky/Louisville
X-LIC-LOCATION:America/Kentucky/Louisville
BEGIN:STANDARD
DTSTART:20251102T010000
TZOFFSETFROM:-0400
TZOFFSETTO:-0500
TZNAME:EST
END:STANDARD
END:VTIMEZONE
END:VCALENDAR