BEGIN:VCALENDAR
VERSION:2.0
PRODID:-//wp-events-plugin.com//7.2.3.1//EN
BEGIN:VEVENT
UID:8098@visitlebanonky.com
DTSTART;TZID=America/Kentucky/Louisville:20260307T080000
DTEND;TZID=America/Kentucky/Louisville:20260307T123000
DTSTAMP:20251010T202732Z
URL:https://visitlebanonky.com/events/lebanon-farmers-market-winter-market
 -9/
SUMMARY:Lebanon Farmers Market Winter Market
DESCRIPTION:Big News\, Lebanon!  \nWe’re thrilled to announce the 1st eve
 r Lebanon KY Farmers Market Winter Market.\nLocation: Marion County Event 
 Center & Sportsplex\nDates: November 2025 through April 2026\nFor the firs
 t time ever\, our community will have a cozy indoor space to shop local al
 l winter long. From fresh produce and handmade goods to baked treats and a
 rtisan crafts\, this market is all about keeping the spirit of local alive
  — even when the temperatures drop.\nCome support your favorite vendors\
 , discover new ones\, and enjoy the warmth of community through the colder
  months. Whether you’re stocking up for the holidays or just stopping by
  for something special\, we can’t wait to welcome you!\nCheck out our pa
 ge on Facebook for vendor announcements\, special features\, and monthly t
 hemes — this winter is going to be full of heart.\nhttps://www.facebook.
 com/LebanonKYFarmersMarket
ATTACH;FMTTYPE=image/jpeg:https://visitlebanonky.com/wp-content/uploads/20
 25/10/farmers-market.jpg
CATEGORIES:Community
LOCATION:Marion County Event Center and Sportsplex\, 101 Independence Drive
  \, LEBANON\, KY\, 40033\, Marion County\, United States
X-APPLE-STRUCTURED-LOCATION;VALUE=URI;X-ADDRESS=101 Independence Drive \, L
 EBANON\, KY\, 40033\, Marion County\, United States;X-APPLE-RADIUS=100;X-T
 ITLE=Marion County Event Center and Sportsplex:geo:0,0
END:VEVENT
BEGIN:VTIMEZONE
TZID:America/Kentucky/Louisville
X-LIC-LOCATION:America/Kentucky/Louisville
BEGIN:STANDARD
DTSTART:20251102T010000
TZOFFSETFROM:-0400
TZOFFSETTO:-0500
TZNAME:EST
END:STANDARD
END:VTIMEZONE
END:VCALENDAR