BEGIN:VCALENDAR
VERSION:2.0
PRODID:-//wp-events-plugin.com//7.2.3.1//EN
BEGIN:VEVENT
UID:7581@visitlebanonky.com
DTSTART;TZID=America/Kentucky/Louisville:20250509T103000
DTEND;TZID=America/Kentucky/Louisville:20250509T133000
DTSTAMP:20250508T005818Z
URL:https://visitlebanonky.com/events/lebanon-fire-department-cattlemans-c
 ookout-for-crusade-for-children/
SUMMARY:Lebanon Fire Department Cattleman's Cookout for Crusade For Childre
 n
DESCRIPTION:The Lebanon Fire Department is teaming up with our local Cattle
 man’s to fundraise for the WHAS Crusade for Children! \n100% of all proc
 eeds go directly to the cause and the kids! \nWe will be located in Norby
 ’s parking lot on May 9\, from 10 a.m. till 1:30 p.m.\nPlease share\, co
 me grab a bite\, and help us make this year a success!
ATTACH;FMTTYPE=image/jpeg:https://visitlebanonky.com/wp-content/uploads/20
 25/05/crusade.jpg
CATEGORIES:Community
LOCATION:Norby Parking Lot\, 192 Lebanon Trade Center\, Lebanon\, Kentucky\
 , 40033\, Marion County\, United States
GEO:37.558888;-85.270473
X-APPLE-STRUCTURED-LOCATION;VALUE=URI;X-ADDRESS=192 Lebanon Trade Center\, 
 Lebanon\, Kentucky\, 40033\, Marion County\, United States;X-APPLE-RADIUS=
 100;X-TITLE=Norby Parking Lot:geo:37.558888,-85.270473
END:VEVENT
BEGIN:VTIMEZONE
TZID:America/Kentucky/Louisville
X-LIC-LOCATION:America/Kentucky/Louisville
BEGIN:DAYLIGHT
DTSTART:20250309T030000
TZOFFSETFROM:-0500
TZOFFSETTO:-0400
TZNAME:EDT
END:DAYLIGHT
END:VTIMEZONE
END:VCALENDAR