BEGIN:VCALENDAR
VERSION:2.0
PRODID:-//wp-events-plugin.com//7.2.3.1//EN
BEGIN:VEVENT
UID:8846@visitlebanonky.com
DTSTART;TZID=America/Kentucky/Louisville:20261123T180000
DTEND;TZID=America/Kentucky/Louisville:20261123T200000
DTSTAMP:20260209T164151Z
URL:https://visitlebanonky.com/events/lebanon-line-dancing-2026-02-09-2026
 -02-16-2026-02-23-2026-03-02-2026-03-09-2026-03-16-2026-03-23-2026-03-30-2
 026-04-06-2026-04-13-2026-04-20-2026-04-27-2026-05-04-2026-05-11-2026-05-1
 8-16-2026-11-23/
SUMMARY:Lebanon Line Dancing
DESCRIPTION:If you'd like to participate you can find the group on Facebook
  HERE\nFollow along in the group for changes and cancellations.
ATTACH;FMTTYPE=image/jpeg:https://visitlebanonky.com/wp-content/uploads/20
 26/02/line-dancing.jpg
CATEGORIES:Community
LOCATION:Floral Hall at the Marion County Fairgrounds\, 593 Fairgrounds Roa
 d\, Lebanon\, Kentucky\, 40033\, Marion County\, United States
GEO:37.564189;-85.238475
X-APPLE-STRUCTURED-LOCATION;VALUE=URI;X-ADDRESS=593 Fairgrounds Road\, Leba
 non\, Kentucky\, 40033\, Marion County\, United States;X-APPLE-RADIUS=100;
 X-TITLE=Floral Hall at the Marion County Fairgrounds:geo:37.564189,-85.238
 475
END:VEVENT
BEGIN:VTIMEZONE
TZID:America/Kentucky/Louisville
X-LIC-LOCATION:America/Kentucky/Louisville
BEGIN:STANDARD
DTSTART:20261101T010000
TZOFFSETFROM:-0400
TZOFFSETTO:-0500
TZNAME:EST
END:STANDARD
END:VTIMEZONE
END:VCALENDAR