BEGIN:VCALENDAR
VERSION:2.0
PRODID:-//wp-events-plugin.com//7.2.3.1//EN
BEGIN:VEVENT
UID:8629@visitlebanonky.com
DTSTART;TZID=America/Kentucky/Louisville:20260314T000000
DTEND;TZID=America/Kentucky/Louisville:20260314T000000
DTSTAMP:20260113T195217Z
URL:https://visitlebanonky.com/events/lebanon-methodist-church-womens-conf
 erence/
SUMMARY:Lebanon Methodist Church Women's Conference
DESCRIPTION:You can find this church on Facebook HERE
ATTACH;FMTTYPE=image/jpeg:https://visitlebanonky.com/wp-content/uploads/20
 26/01/womens-conference.jpg
CATEGORIES:Community
LOCATION:Lebanon Methodist Church\, 236 N Spalding Avenue \, Lebanon\, Kent
 ucky\, 40033\, Marion County\, United States
GEO:37.572108;-85.253871
X-APPLE-STRUCTURED-LOCATION;VALUE=URI;X-ADDRESS=236 N Spalding Avenue \, Le
 banon\, Kentucky\, 40033\, Marion County\, United States;X-APPLE-RADIUS=10
 0;X-TITLE=Lebanon Methodist Church:geo:37.572108,-85.253871
END:VEVENT
BEGIN:VTIMEZONE
TZID:America/Kentucky/Louisville
X-LIC-LOCATION:America/Kentucky/Louisville
BEGIN:DAYLIGHT
DTSTART:20260308T030000
TZOFFSETFROM:-0500
TZOFFSETTO:-0400
TZNAME:EDT
END:DAYLIGHT
END:VTIMEZONE
END:VCALENDAR