BEGIN:VCALENDAR
VERSION:2.0
PRODID:-//wp-events-plugin.com//7.2.3.1//EN
BEGIN:VEVENT
UID:8961@visitlebanonky.com
DTSTART;TZID=America/Kentucky/Louisville:20260717T190000
DTEND;TZID=America/Kentucky/Louisville:20260717T220000
DTSTAMP:20260306T183256Z
URL:https://visitlebanonky.com/events/lebanon-tourisms-summer-concert-seri
 es-2/
SUMMARY:Lebanon Tourism's Summer Concert Series
DESCRIPTION:Be sure to mark your calendars for our Summer Concert Series. A
 s always we will have our friends from Good Buddies Brewing Co. there serv
 ing up their brews\, some delicious food trucks and bouncy houses for the 
 kids brought to you by Spalding Inflatables. We can't wait to jam out with
  you guys again this year. \nJUNE 5 Autria Calhoun & Midnight Rain\nJULY 1
 7 Midnight RedEye Band & Zach Mosgrove\nAUGUST 7 Kaleb Cecil & Hotel Whisk
 ey & Carly Johnson
ATTACH;FMTTYPE=image/jpeg:https://visitlebanonky.com/wp-content/uploads/20
 26/03/summer-concert-series.jpg
CATEGORIES:Official
LOCATION:Johnson Field Stage Behind Centre Square\, 237 North Spalding Aven
 ue\, Lebanon\, Kentucky\, 40033\, Marion County\, United States
GEO:37.572122;-85.253878
X-APPLE-STRUCTURED-LOCATION;VALUE=URI;X-ADDRESS=237 North Spalding Avenue\,
  Lebanon\, Kentucky\, 40033\, Marion County\, United States;X-APPLE-RADIUS
 =100;X-TITLE=Johnson Field Stage Behind Centre Square:geo:37.572122,-85.25
 3878
END:VEVENT
BEGIN:VTIMEZONE
TZID:America/Kentucky/Louisville
X-LIC-LOCATION:America/Kentucky/Louisville
BEGIN:DAYLIGHT
DTSTART:20260308T030000
TZOFFSETFROM:-0500
TZOFFSETTO:-0400
TZNAME:EDT
END:DAYLIGHT
END:VTIMEZONE
END:VCALENDAR