BEGIN:VCALENDAR
VERSION:2.0
PRODID:-//wp-events-plugin.com//7.2.3.1//EN
BEGIN:VEVENT
UID:8436@visitlebanonky.com
DTSTART;TZID=America/Kentucky/Louisville:20260131T080000
DTEND;TZID=America/Kentucky/Louisville:20260131T093000
DTSTAMP:20251209T002100Z
URL:https://visitlebanonky.com/events/legislative-coffee/
SUMMARY:Legislative Coffee
DESCRIPTION:Higdon Announces 2026 Legislative Coffees and Prayer Breakfast 
 Across 14th District\n\nFRANKFORT\, Ky. (Dec. 5\, 2025) — Senator Jimmy 
 Higdon\, R-Lebanon\, has released the schedule for his final round of Legi
 slative Coffees and the 24th Annual Josephine Nuckols Legislative Prayer B
 reakfast ahead of the 2026 Legislative Session. These community events giv
 e residents a chance to hear priorities for the upcoming year\, ask questi
 ons\, and connect directly with their state lawmakers.\nHigdon said this y
 ear’s gatherings hold special meaning as he prepares to retire at the en
 d of his current term.\n“This is a tradition I started 24 years ago when
  I was first elected\,” Higdon said. “These will be extra special to m
 e\, and I hope to see many of you there.”\nEvent Schedule\n☕ Nelson Co
 unty Legislative Coffee\n• Monday\, Jan. 5 – 8 a.m.\n• Fairfield Inn
  & Suites\, 1070 Morton Avenue\, Bardstown\nHosted by the Nelson County Ec
 onomic Development Agency. Rep. Candy Massaroni will be featured.\n☕ Was
 hington County Legislative Coffee\n• Thursday\, Jan. 8 – 8 a.m.\n• S
 pringfield Opera House\nSponsored by the Springfield–Washington County C
 hamber of Commerce. Rep. Kim King will be featured.\n☕ Marion County Leg
 islative Coffee\n• Monday\, Jan. 12 – 8 a.m.\n• Centre Square – An
 gelic Hall\, Lebanon\nSponsored by the Lebanon–Marion County Chamber of 
 Commerce. Rep. Michael “Sarge” Pollock will be featured.\n🙏 Josephi
 ne Nuckols Legislative Prayer Breakfast\n• Saturday\, Jan. 17 – Breakf
 ast at 8 a.m.\, prayer service at 9 a.m.\n• Lebanon Methodist Church\, 2
 36 North Spalding Avenue\nGuest speaker: Brother Lee Watts.\n☕ LaRue Cou
 nty Legislative Coffee\n• Tuesday\, Jan. 20 – 8 a.m.\n• 58 Lincoln S
 quare\, Hodgenville\nRep. Ryan Bivens will be featured.\n☕ Marion County
  Farm Bureau Legislative Coffee\n• Saturday\, Jan. 31 – 8 a.m.\n• Ma
 rion County Farm Bureau Office\, 690 Metts Drive\nRep. Sarge Pollock will 
 be featured.\nAll events are open to the public. Constituents are encourag
 ed to attend\, ask questions\, and share their views on legislative priori
 ties for the year ahead. 
ATTACH;FMTTYPE=image/jpeg:https://visitlebanonky.com/wp-content/uploads/20
 25/12/jimmy-higdon.jpg
CATEGORIES:Community
LOCATION:Marion County Farm Bureau South\, 690 Metts Drive\, Lebanon\, Kent
 ucky\, 40033\, Marion County\, United States
GEO:37.554236;-85.268232
X-APPLE-STRUCTURED-LOCATION;VALUE=URI;X-ADDRESS=690 Metts Drive\, Lebanon\,
  Kentucky\, 40033\, Marion County\, United States;X-APPLE-RADIUS=100;X-TIT
 LE=Marion County Farm Bureau South:geo:37.554236,-85.268232
END:VEVENT
BEGIN:VTIMEZONE
TZID:America/Kentucky/Louisville
X-LIC-LOCATION:America/Kentucky/Louisville
BEGIN:STANDARD
DTSTART:20251102T010000
TZOFFSETFROM:-0400
TZOFFSETTO:-0500
TZNAME:EST
END:STANDARD
END:VTIMEZONE
END:VCALENDAR