BEGIN:VCALENDAR
VERSION:2.0
PRODID:-//wp-events-plugin.com//7.2.3.1//EN
BEGIN:VEVENT
UID:8687@visitlebanonky.com
DTSTART;TZID=America/Kentucky/Louisville:20260202T183000
DTEND;TZID=America/Kentucky/Louisville:20260202T203000
DTSTAMP:20260129T221004Z
URL:https://visitlebanonky.com/events/legislative-forum/
SUMMARY:Legislative Forum
DESCRIPTION:From Marion County - Kentucky Farm Bureau: Add February 2 to yo
 ur calendars.  We will have a Legislative forum at the Marion County Exten
 sion Office\, beginning at 6:30 p.m. and all candidates have been invited.
  The public is invited to attend. \nFollow on Facebook HERE for this and o
 ther event announcements .
ATTACH;FMTTYPE=image/jpeg:https://visitlebanonky.com/wp-content/uploads/20
 26/01/candidates-e1769724590369.jpg
CATEGORIES:Community
LOCATION:Marion County Cooperative Extension Office\, 416 Fairgrounds Road\
 , Lebanon\, KY/Marion\, 40033\, United States
X-APPLE-STRUCTURED-LOCATION;VALUE=URI;X-ADDRESS=416 Fairgrounds Road\, Leba
 non\, KY/Marion\, 40033\, United States;X-APPLE-RADIUS=100;X-TITLE=Marion 
 County Cooperative Extension Office:geo:0,0
END:VEVENT
BEGIN:VTIMEZONE
TZID:America/Kentucky/Louisville
X-LIC-LOCATION:America/Kentucky/Louisville
BEGIN:STANDARD
DTSTART:20251102T010000
TZOFFSETFROM:-0400
TZOFFSETTO:-0500
TZNAME:EST
END:STANDARD
END:VTIMEZONE
END:VCALENDAR