BEGIN:VCALENDAR
VERSION:2.0
PRODID:-//wp-events-plugin.com//7.2.3.1//EN
BEGIN:VEVENT
UID:7565@visitlebanonky.com
DTSTART;TZID=America/Kentucky/Louisville:20250512T000000
DTEND;TZID=America/Kentucky/Louisville:20250516T000000
DTSTAMP:20250428T234544Z
URL:https://visitlebanonky.com/events/lift-for-a-cause-crusade-for-childre
 n/
SUMMARY:Lift For A Cause - Crusade For Children
DESCRIPTION:
ATTACH;FMTTYPE=image/jpeg:https://visitlebanonky.com/wp-content/uploads/20
 25/04/lift-for-a-cause.jpg
CATEGORIES:Community
LOCATION:Fit Factory\, 609 W Main Street\, Lebanon\, Kentucky\, 40033\, Mar
 ion County\, United States
GEO:37.563696;-85.265979
X-APPLE-STRUCTURED-LOCATION;VALUE=URI;X-ADDRESS=609 W Main Street\, Lebanon
 \, Kentucky\, 40033\, Marion County\, United States;X-APPLE-RADIUS=100;X-T
 ITLE=Fit Factory:geo:37.563696,-85.265979
END:VEVENT
BEGIN:VTIMEZONE
TZID:America/Kentucky/Louisville
X-LIC-LOCATION:America/Kentucky/Louisville
BEGIN:DAYLIGHT
DTSTART:20250309T030000
TZOFFSETFROM:-0500
TZOFFSETTO:-0400
TZNAME:EDT
END:DAYLIGHT
END:VTIMEZONE
END:VCALENDAR