BEGIN:VCALENDAR
VERSION:2.0
PRODID:-//wp-events-plugin.com//7.2.3.1//EN
BEGIN:VEVENT
UID:8182@visitlebanonky.com
DTSTART;TZID=America/Kentucky/Louisville:20251213T000000
DTEND;TZID=America/Kentucky/Louisville:20251213T000000
DTSTAMP:20251204T032331Z
URL:https://visitlebanonky.com/events/light-the-way-3k/
SUMMARY:Light the Way 3K - CANCELLED
DESCRIPTION:Due to lack of interest\, the Light the Way 3K has been cancele
 d. Refunds should be forthcoming.
ATTACH;FMTTYPE=image/jpeg:https://visitlebanonky.com/wp-content/uploads/20
 25/11/light.jpg
CATEGORIES:Community
LOCATION:Graham Memorial Park\, 525 Graham Memorial Drive\, Lebanon\, Kentu
 cky\, 40033\, Marion County\, United States
GEO:37.562057;-85.249356
X-APPLE-STRUCTURED-LOCATION;VALUE=URI;X-ADDRESS=525 Graham Memorial Drive\,
  Lebanon\, Kentucky\, 40033\, Marion County\, United States;X-APPLE-RADIUS
 =100;X-TITLE=Graham Memorial Park:geo:37.562057,-85.249356
END:VEVENT
BEGIN:VTIMEZONE
TZID:America/Kentucky/Louisville
X-LIC-LOCATION:America/Kentucky/Louisville
BEGIN:STANDARD
DTSTART:20251102T010000
TZOFFSETFROM:-0400
TZOFFSETTO:-0500
TZNAME:EST
END:STANDARD
END:VTIMEZONE
END:VCALENDAR