BEGIN:VCALENDAR
VERSION:2.0
PRODID:-//wp-events-plugin.com//7.2.3.1//EN
BEGIN:VEVENT
UID:8871@visitlebanonky.com
DTSTART;TZID=America/Kentucky/Louisville:20260227T190000
DTEND;TZID=America/Kentucky/Louisville:20260227T233000
DTSTAMP:20260212T045137Z
URL:https://visitlebanonky.com/events/lights-out-knights-out-7/
SUMMARY:Lights Out\, Knights Out
DESCRIPTION:🤩 Calling all Marion County High School Students 9th\, 10\, 
 11\, and 12th grade! Get ready for an epic Fun Night packed with great foo
 d\, awesome door prizes\, and nonstop good vibes. You do not want to miss 
 this—bring your friends and come hungry 😇\nLOKO Night \nDate: Februar
 y 27th ❤️\nTime: 7:00 PM to 11:30 PM\nLocation: Marion County Event Ce
 nter and Sportsplex ❤️
ATTACH;FMTTYPE=image/jpeg:https://visitlebanonky.com/wp-content/uploads/20
 26/02/LOKO-NIGHT.jpg
CATEGORIES:Community
LOCATION:Marion County Event Center and Sportsplex\, 101 Independence Drive
  \, LEBANON\, KY\, 40033\, Marion County\, United States
X-APPLE-STRUCTURED-LOCATION;VALUE=URI;X-ADDRESS=101 Independence Drive \, L
 EBANON\, KY\, 40033\, Marion County\, United States;X-APPLE-RADIUS=100;X-T
 ITLE=Marion County Event Center and Sportsplex:geo:0,0
END:VEVENT
BEGIN:VTIMEZONE
TZID:America/Kentucky/Louisville
X-LIC-LOCATION:America/Kentucky/Louisville
BEGIN:STANDARD
DTSTART:20251102T010000
TZOFFSETFROM:-0400
TZOFFSETTO:-0500
TZNAME:EST
END:STANDARD
END:VTIMEZONE
END:VCALENDAR