BEGIN:VCALENDAR
VERSION:2.0
PRODID:-//wp-events-plugin.com//7.2.3.1//EN
BEGIN:VEVENT
UID:9127@visitlebanonky.com
DTSTART;TZID=America/Kentucky/Louisville:20260704T160000
DTEND;TZID=America/Kentucky/Louisville:20260704T180000
DTSTAMP:20260414T215522Z
URL:https://visitlebanonky.com/events/lights-over-lebanon-3/
SUMMARY:Lights Over Lebanon
DESCRIPTION:From the event page on Facebook HERE  \n\nJoin us for the 5th A
 nniversary of Lights Over Lebanon! Enjoy Vendor Village\, a Family Fun Zon
 e\, food vendors\, and a fireworks display produced by CK Pyrotechnics at 
 dark.\nFREE admission | Family-friendly\nParking available on-site.\nNo pe
 rsonal fireworks allowed.\nBring chairs or blankets for viewing.\n\nAlso w
 atch the event page for possible VIP purchases\, sponsorships and t-shirts
 .
ATTACH;FMTTYPE=image/jpeg:https://visitlebanonky.com/wp-content/uploads/20
 26/03/lights-over-lebanon.jpg
CATEGORIES:Official
LOCATION:Graham Memorial Park Soccer Fields\, 511 Fairgrounds Road\, Lebano
 n\, Kentucky\, 40033\, Marion County\, United States
GEO:37.564587;-85.238836
X-APPLE-STRUCTURED-LOCATION;VALUE=URI;X-ADDRESS=511 Fairgrounds Road\, Leba
 non\, Kentucky\, 40033\, Marion County\, United States;X-APPLE-RADIUS=100;
 X-TITLE=Graham Memorial Park Soccer Fields:geo:37.564587,-85.238836
END:VEVENT
BEGIN:VTIMEZONE
TZID:America/Kentucky/Louisville
X-LIC-LOCATION:America/Kentucky/Louisville
BEGIN:DAYLIGHT
DTSTART:20260308T030000
TZOFFSETFROM:-0500
TZOFFSETTO:-0400
TZNAME:EDT
END:DAYLIGHT
END:VTIMEZONE
END:VCALENDAR