BEGIN:VCALENDAR
VERSION:2.0
PRODID:-//wp-events-plugin.com//7.2.3.1//EN
BEGIN:VEVENT
UID:8323@visitlebanonky.com
DTSTART;TZID=America/Kentucky/Louisville:20251122T160000
DTEND;TZID=America/Kentucky/Louisville:20251122T200000
DTSTAMP:20251110T224715Z
URL:https://visitlebanonky.com/events/lincoln-family-christmas-tour/
SUMMARY:Lincoln Family Christmas Tour
DESCRIPTION:Get tickets HERE\nFollow Springfield Tourism on Facebook HERE\n
 Springfield Tourism is excited to bring the Lincoln Family Christmas Tour 
 back for a second year! Enjoy a tour of historic homes and buildings that 
 are directly connected to the Lincoln Family. Starting at the Lincoln Lega
 cy Museum\, you will be met by our narrator who will help you step back in
  time to a simpler holiday season. Then travel in your vehicle to the Mord
 ecai Lincoln Home just a few miles away and enjoy the sights and sounds of
  Christmas. We don't want to give all the details away\, just make sure yo
 u reserve your time for this once a year event that you don't want to miss
 ! Space is limited! Tickets will be at Will Call the night of the tour.
ATTACH;FMTTYPE=image/jpeg:https://visitlebanonky.com/wp-content/uploads/20
 25/11/lincoln-family.jpg
CATEGORIES:Official
LOCATION:SPRINGFIELD\, SPRINGFIELD\, Springfield\, Kentucky\, 40069\, Washi
 ngton County\, United States
X-APPLE-STRUCTURED-LOCATION;VALUE=URI;X-ADDRESS=SPRINGFIELD\, Springfield\,
  Kentucky\, 40069\, Washington County\, United States;X-APPLE-RADIUS=100;X
 -TITLE=SPRINGFIELD:geo:0,0
END:VEVENT
BEGIN:VTIMEZONE
TZID:America/Kentucky/Louisville
X-LIC-LOCATION:America/Kentucky/Louisville
BEGIN:STANDARD
DTSTART:20251102T010000
TZOFFSETFROM:-0400
TZOFFSETTO:-0500
TZNAME:EST
END:STANDARD
END:VTIMEZONE
END:VCALENDAR