BEGIN:VCALENDAR
VERSION:2.0
PRODID:-//wp-events-plugin.com//7.2.3.1//EN
BEGIN:VEVENT
UID:8866@visitlebanonky.com
DTSTART;TZID=America/Kentucky/Louisville:20260219T100000
DTEND;TZID=America/Kentucky/Louisville:20260219T110000
DTSTAMP:20260212T042545Z
URL:https://visitlebanonky.com/events/little-knight-learners-4/
SUMMARY:Little Knight Learners
DESCRIPTION:We are excited to resume Little Knight Learners! \nOur February
  session will be held on Wednesday\, February 19th from 10:00 AM – 11:00
  AM at the Marion County Public Library.\nLittle Knight Learners is a mont
 hly Play and Learn group designed for children ages 0–3 and their caregi
 vers.\nThis month\, we will be learning All About Feelings! \nWe can’t w
 ait to see you and your little learners there!
ATTACH;FMTTYPE=image/jpeg:https://visitlebanonky.com/wp-content/uploads/20
 26/02/little-knight-learners.jpg
CATEGORIES:Community
LOCATION:Marion County Public Library\, 201 E Main St\, Lebanon\, KY/Marion
 \, 40033\, Marion County\, United States
X-APPLE-STRUCTURED-LOCATION;VALUE=URI;X-ADDRESS=201 E Main St\, Lebanon\, K
 Y/Marion\, 40033\, Marion County\, United States;X-APPLE-RADIUS=100;X-TITL
 E=Marion County Public Library:geo:0,0
END:VEVENT
BEGIN:VTIMEZONE
TZID:America/Kentucky/Louisville
X-LIC-LOCATION:America/Kentucky/Louisville
BEGIN:STANDARD
DTSTART:20251102T010000
TZOFFSETFROM:-0400
TZOFFSETTO:-0500
TZNAME:EST
END:STANDARD
END:VTIMEZONE
END:VCALENDAR