BEGIN:VCALENDAR
VERSION:2.0
PRODID:-//wp-events-plugin.com//7.2.3.1//EN
BEGIN:VEVENT
UID:6320@visitlebanonky.com
DTSTART;TZID=America/Kentucky/Louisville:20241215T143000
DTEND;TZID=America/Kentucky/Louisville:20241215T163000
DTSTAMP:20241022T040549Z
URL:https://visitlebanonky.com/events/little-women-the-musical-4/
SUMMARY:Little Women the Musical
DESCRIPTION:Little Women the Musical\nDecember 5-8th & 12-15th\n7pm\nSat. M
 atinee 11am\nSun. Matinee 2:30pm\n\nIt’s Christmas 1865 as the March sis
 ters from Louisa May Alcott’s timeless book are brought to life on the s
 tage! In an effort to make the season more festive\, tomboyish Jo has writ
 ten a vivid play to perform for “all of Concord”\, but she crosses the
  line when she chops down the neighbor’s fir tree. Filled with adventure
 s (both lived and imagined)\, these “Little Women” experience heartbre
 ak and hope wrapped up in a big-hearted message about the importance of fa
 mily and reminding us that “sometimes when you dream\, your dreams come 
 true.”\n\nTickets https://kentuckyclassicarts.com/ticket-sales/ or at th
 e door
ATTACH;FMTTYPE=image/jpeg:https://visitlebanonky.com/wp-content/uploads/20
 24/10/little-women.png
CATEGORIES:Official
LOCATION:Kentucky Classic ARTS at Centre Square\, 237 North Spalding Avenue
 \, Lebanon\, KY\, 40033\, United States
X-APPLE-STRUCTURED-LOCATION;VALUE=URI;X-ADDRESS=237 North Spalding Avenue\,
  Lebanon\, KY\, 40033\, United States;X-APPLE-RADIUS=100;X-TITLE=Kentucky 
 Classic ARTS at Centre Square:geo:0,0
END:VEVENT
BEGIN:VTIMEZONE
TZID:America/Kentucky/Louisville
X-LIC-LOCATION:America/Kentucky/Louisville
BEGIN:STANDARD
DTSTART:20241103T010000
TZOFFSETFROM:-0400
TZOFFSETTO:-0500
TZNAME:EST
END:STANDARD
END:VTIMEZONE
END:VCALENDAR