BEGIN:VCALENDAR
VERSION:2.0
PRODID:-//wp-events-plugin.com//7.2.3.1//EN
BEGIN:VEVENT
UID:6607@visitlebanonky.com
DTSTART;TZID=America/Kentucky/Louisville:20241212T190000
DTEND;TZID=America/Kentucky/Louisville:20241213T210000
DTSTAMP:20241212T032132Z
URL:https://visitlebanonky.com/events/little-women-the-musical-free/
SUMMARY:Little Women the Musical - FREE
DESCRIPTION:We have a special offer for our Thursday and Friday night perfo
 rmance of Little Women! Bring a donation of shelf-stable food to the door 
 and receive a FREE ticket to the show! Support the community and support t
 he Arts with this limited time deal. 🥫 \n(Offer only valid at the door 
 starting at 6:30 pm each night\, and only redeemable once per person. Seat
 s are first come first serve!)
ATTACH;FMTTYPE=image/jpeg:https://visitlebanonky.com/wp-content/uploads/20
 24/12/free.jpg
CATEGORIES:Official
LOCATION:Kentucky Classic ARTS at Centre Square\, 237 North Spalding Avenue
 \, Lebanon\, KY\, 40033\, United States
X-APPLE-STRUCTURED-LOCATION;VALUE=URI;X-ADDRESS=237 North Spalding Avenue\,
  Lebanon\, KY\, 40033\, United States;X-APPLE-RADIUS=100;X-TITLE=Kentucky 
 Classic ARTS at Centre Square:geo:0,0
END:VEVENT
BEGIN:VTIMEZONE
TZID:America/Kentucky/Louisville
X-LIC-LOCATION:America/Kentucky/Louisville
BEGIN:STANDARD
DTSTART:20241103T010000
TZOFFSETFROM:-0400
TZOFFSETTO:-0500
TZNAME:EST
END:STANDARD
END:VTIMEZONE
END:VCALENDAR