BEGIN:VCALENDAR
VERSION:2.0
PRODID:-//wp-events-plugin.com//7.2.3.1//EN
BEGIN:VEVENT
UID:7626@visitlebanonky.com
DTSTART;TZID=America/Kentucky/Louisville:20250529T183000
DTEND;TZID=America/Kentucky/Louisville:20250529T203000
DTSTAMP:20250529T032021Z
URL:https://visitlebanonky.com/events/living-with-alpha-gal-syndrome/
SUMMARY:Living With Alpha-Gal Syndrome
DESCRIPTION:Join us Thursday evening from 6:30-8:30 p.m. to learn about Alp
 ha-Gal and receive a free tick removal kit while supplies last.
ATTACH;FMTTYPE=image/jpeg:https://visitlebanonky.com/wp-content/uploads/20
 25/05/alpha-gal.jpg
CATEGORIES:Community
LOCATION:Marion County Cooperative Extension Office\, 416 Fairgrounds Road\
 , Lebanon\, KY/Marion\, 40033\, United States
X-APPLE-STRUCTURED-LOCATION;VALUE=URI;X-ADDRESS=416 Fairgrounds Road\, Leba
 non\, KY/Marion\, 40033\, United States;X-APPLE-RADIUS=100;X-TITLE=Marion 
 County Cooperative Extension Office:geo:0,0
END:VEVENT
BEGIN:VTIMEZONE
TZID:America/Kentucky/Louisville
X-LIC-LOCATION:America/Kentucky/Louisville
BEGIN:DAYLIGHT
DTSTART:20250309T030000
TZOFFSETFROM:-0500
TZOFFSETTO:-0400
TZNAME:EDT
END:DAYLIGHT
END:VTIMEZONE
END:VCALENDAR