BEGIN:VCALENDAR
VERSION:2.0
PRODID:-//wp-events-plugin.com//7.2.3.1//EN
BEGIN:VEVENT
UID:9167@visitlebanonky.com
DTSTART;TZID=America/Kentucky/Louisville:20260417T190000
DTEND;TZID=America/Kentucky/Louisville:20260417T230000
DTSTAMP:20260403T162335Z
URL:https://visitlebanonky.com/events/loko-night-lights-out-knights-out/
SUMMARY:LOKO Night - Lights Out Knights Out
DESCRIPTION:Lights Out Knights Out\nLOKO Night is going Country🤠\nGreat 
 Food and Win some 💰 \nDate: April 17th\nTime: 7:00 PM to 11:30 PM \nGre
 at time riding the mechanical bull! Come out and win big!🤠🤩
ATTACH;FMTTYPE=image/jpeg:https://visitlebanonky.com/wp-content/uploads/20
 26/04/loko-night.jpg
CATEGORIES:Community
LOCATION:Marion County Event Center and Sportsplex\, 101 Independence Drive
  \, LEBANON\, KY\, 40033\, Marion County\, United States
X-APPLE-STRUCTURED-LOCATION;VALUE=URI;X-ADDRESS=101 Independence Drive \, L
 EBANON\, KY\, 40033\, Marion County\, United States;X-APPLE-RADIUS=100;X-T
 ITLE=Marion County Event Center and Sportsplex:geo:0,0
END:VEVENT
BEGIN:VTIMEZONE
TZID:America/Kentucky/Louisville
X-LIC-LOCATION:America/Kentucky/Louisville
BEGIN:DAYLIGHT
DTSTART:20260308T030000
TZOFFSETFROM:-0500
TZOFFSETTO:-0400
TZNAME:EDT
END:DAYLIGHT
END:VTIMEZONE
END:VCALENDAR