BEGIN:VCALENDAR
VERSION:2.0
PRODID:-//wp-events-plugin.com//7.2.3.1//EN
BEGIN:VEVENT
UID:6312@visitlebanonky.com
DTSTART;TZID=America/Kentucky/Louisville;VALUE=DATE:20241101
DTEND;TZID=America/Kentucky/Louisville;VALUE=DATE:20241103
DTSTAMP:20241022T225504Z
URL:https://visitlebanonky.com/events/loper-floral-gifts-and-lulas-boutiqu
 e-christmas-open-house/
SUMMARY:Loper Floral & Gifts and Lula's Boutique Christmas Open House
DESCRIPTION:🎄 Christmas Open House at Loper Floral & Lula’s Boutique! 
 🎄\n📅 Dates:\n• Friday\, November 1st | 11 am - 8pm\n• Saturday\,
  November 2nd | 9am - 4pm\n🎅 Santa’s and His Elf Arrival\nKick off th
 e holiday season with Santa! He’ll be arriving in his truck at 5pm on Fr
 iday—bring the family for free pictures!\n🍴 Hungry? Main Squeeze & Go
 tchee Hibachi Food Truck will be on-site all day Friday\, serving up delic
 ious eats and lemonade! Dining area setup outside!\n🍰 Dessert Refreshme
 nts\nEnjoy sweet treats inside while you shop!\n🎁 Exclusive Deals & Fre
 e Gifts\n• Free gift for the first 20 customers on both Friday & Saturda
 y!\n• 10% off all Christmas items!\n• 50% off fall items!\n🎟 Door P
 rizes\nWin big with door prizes every hour!\nThis is a weekend you won’t
  want to miss—fun for the whole family! Come shop\, eat\, and enjoy the 
 holiday spirit with us!\n📍 1760 Campbellsville Rd\, Lebanon\, KY
ATTACH;FMTTYPE=image/jpeg:https://visitlebanonky.com/wp-content/uploads/20
 24/10/loper-2.jpg
CATEGORIES:Community
LOCATION:Loper Floral and Gifts\, 1760 Campbellsville Road\, Lebanon\, Kent
 ucky\, 40033\, Marion County\, United States
GEO:37.55701;-85.279889
X-APPLE-STRUCTURED-LOCATION;VALUE=URI;X-ADDRESS=1760 Campbellsville Road\, 
 Lebanon\, Kentucky\, 40033\, Marion County\, United States;X-APPLE-RADIUS=
 100;X-TITLE=Loper Floral and Gifts:geo:37.55701,-85.279889
END:VEVENT
BEGIN:VTIMEZONE
TZID:America/Kentucky/Louisville
X-LIC-LOCATION:America/Kentucky/Louisville
BEGIN:DAYLIGHT
DTSTART:20240310T030000
TZOFFSETFROM:-0500
TZOFFSETTO:-0400
TZNAME:EDT
END:DAYLIGHT
END:VTIMEZONE
END:VCALENDAR